BEGIN:VCALENDAR
VERSION:2.0
PRODID:-//IPSC Saskatchewan - ECPv6.7.1//NONSGML v1.0//EN
CALSCALE:GREGORIAN
METHOD:PUBLISH
X-WR-CALNAME:IPSC Saskatchewan
X-ORIGINAL-URL:https://ipscsk.com
X-WR-CALDESC:Events for IPSC Saskatchewan
REFRESH-INTERVAL;VALUE=DURATION:PT1H
X-Robots-Tag:noindex
X-PUBLISHED-TTL:PT1H
BEGIN:VTIMEZONE
TZID:America/Regina
BEGIN:STANDARD
TZOFFSETFROM:-0600
TZOFFSETTO:-0600
TZNAME:CST
DTSTART:20230101T000000
END:STANDARD
END:VTIMEZONE
BEGIN:VEVENT
DTSTART;TZID=America/Regina:20250711T080000
DTEND;TZID=America/Regina:20250712T170000
DTSTAMP:20260420T090654
CREATED:20241123T214459Z
LAST-MODIFIED:20250710T140242Z
UID:10000030-1752220800-1752339600@ipscsk.com
SUMMARY:Saskatchewan IPSC Provincial Championships Level III
DESCRIPTION:This Level 3 match is scheduled for July 11th and 12th\, 2025\, at The Regina Wildlife Federation ranges\, with Wesley Stevens and Adnan Parwez  as the Match Directors.\nThe theme for the match will be ‘Classic Rock\,’ so you can be sure this will be another fun event! Banquet/Awards ceremony will be held on the eve of July 12th at the RWF clubhouse. \nWe will be opening registration in February\, so be sure not to miss this Level 3 before the Nationals in Taber\, AB. We recommend registering early\, as we will be have a set number of slots to ensure it’s a quality match. \nDownload Match Book Here
URL:https://ipscsk.com/event/saskatchewan-ipsc-provincial-championships-level-iii-2/
LOCATION:Regina Wildlife Federation\, RWF Range\, Saskatchewan\, S0G 0H5\, Canada
CATEGORIES:IPSC Monthly
ATTACH;FMTTYPE=image/jpeg:https://ipscsk.com/wp-content/uploads/2024/11/ipscsk-prov2025-sm.jpg
GEO:50.466548667502;-104.38543639325
X-APPLE-STRUCTURED-LOCATION;VALUE=URI;X-ADDRESS=Regina Wildlife Federation RWF Range Saskatchewan S0G 0H5 Canada;X-APPLE-RADIUS=500;X-TITLE=RWF Range:geo:-104.38543639325,50.466548667502
END:VEVENT
BEGIN:VEVENT
DTSTART;TZID=America/Regina:20250419T090000
DTEND;TZID=America/Regina:20250419T170000
DTSTAMP:20260420T090654
CREATED:20250328T152704Z
LAST-MODIFIED:20250328T152704Z
UID:10000035-1745053200-1745082000@ipscsk.com
SUMMARY:Saskatchewan IPSC Level II  - RAPS
DESCRIPTION:Match Director – Adnan Parwez \nWelcome to the IPSC Saskatchewan Level II for April 2025! This match will be a Level 2 IPSC Sanctioned match hosted by RAPS and will take place at the RWF Indoor Range in Pilot Butte\, Saskatchewan. Be at the range for 8:30 am for a 9:00 am start. Range Officers no later than 8:15AM. At this time there is no plans for lunch so please bring any provisions you need for the day. \nSquadding: This will be a work/shoot format. Essentially there will be two shifts. If you work the morning you will shoot afternoon and vice versa. \nPlease make sure that your IPSC SK membership is up to date to be able to shoot. \nSetup will take place Friday afternoon/evening. Please make it out as every little bit helps\, and this match will be dependent on your help. \n***VOLUNTEER POLICY*** While we understand not everyone can make it to setup\, we do expect our competitors to help tear down and put away equipment neatly. If you need to leave early please arrange with the Match Director prior to match day or your score will not be counted. \n***REFUND POLICY*** Cancel with 7 Days or more from the match and receive your match fee back minus a $10.00 fee to cover our fees. Less than 7 days and you will forfeit your match fee.
URL:https://ipscsk.com/event/saskatchewan-ipsc-level-ii-raps-2/
LOCATION:Regina Wildlife Federation\, RWF Range\, Saskatchewan\, S0G 0H5\, Canada
CATEGORIES:IPSC Monthly
ATTACH;FMTTYPE=image/jpeg:https://ipscsk.com/wp-content/uploads/2023/09/ipsc-slide4.jpg
GEO:50.466548667502;-104.38543639325
X-APPLE-STRUCTURED-LOCATION;VALUE=URI;X-ADDRESS=Regina Wildlife Federation RWF Range Saskatchewan S0G 0H5 Canada;X-APPLE-RADIUS=500;X-TITLE=RWF Range:geo:-104.38543639325,50.466548667502
END:VEVENT
BEGIN:VEVENT
DTSTART;TZID=America/Regina:20250215T090000
DTEND;TZID=America/Regina:20250215T170000
DTSTAMP:20260420T090654
CREATED:20250203T212418Z
LAST-MODIFIED:20250203T212418Z
UID:10000033-1739610000-1739638800@ipscsk.com
SUMMARY:Saskatchewan IPSC Level II  - RAPS
DESCRIPTION:Match Director – Cliff Kobelsky \nThis match will be a Level 2 IPSC Sanctioned match hosted by RAPS and will take place at the RWF Indoor Ranges in Pilot Butte\, Saskatchewan. Be at the range for 8:30 am for a 9:30 am start. Range Officers no later than 8:15AM. This will be a AM/PM format. First shots at 9:30AM. If your squad shoots in the AM\, you will work in the PM and vice versa. \nSquadding: This will be a work/shoot format. Essentially there will be two shifts. If you work the morning you will shoot afternoon and vice versa. \nPlease make sure that your IPSC SK membership is up to date to be able to shoot. \nSetup will take place Friday evening before the match. Please make it out as every little bit helps\, and this match will be dependent on your help. At this time there is no plans for lunch so please bring any provisions you need for the day.  \n***VOLUNTEER POLICY*** While we understand not everyone can make it to setup\, we do expect our competitors to help tear down and put away equipment neatly. If you need to leave early please arrange with the Match Director prior to match day or your score will not be counted. \n***REFUND POLICY*** Cancel with 7 Days or more from the match and receive your match fee back minus a $10.00 fee to cover our fees. Less than 7 days and you will forfeit your match fee.
URL:https://ipscsk.com/event/saskatchewan-ipsc-level-ii-raps/
LOCATION:Regina Wildlife Federation\, RWF Range\, Saskatchewan\, S0G 0H5\, Canada
CATEGORIES:IPSC Monthly
ATTACH;FMTTYPE=image/jpeg:https://ipscsk.com/wp-content/uploads/2023/09/ipsc-slide4.jpg
GEO:50.466548667502;-104.38543639325
X-APPLE-STRUCTURED-LOCATION;VALUE=URI;X-ADDRESS=Regina Wildlife Federation RWF Range Saskatchewan S0G 0H5 Canada;X-APPLE-RADIUS=500;X-TITLE=RWF Range:geo:-104.38543639325,50.466548667502
END:VEVENT
BEGIN:VEVENT
DTSTART;TZID=America/Regina:20241221T090000
DTEND;TZID=America/Regina:20241221T170000
DTSTAMP:20260420T090654
CREATED:20241123T213530Z
LAST-MODIFIED:20241126T204310Z
UID:10000028-1734771600-1734800400@ipscsk.com
SUMMARY:Saskatchewan IPSC Level II  - RAPS
DESCRIPTION:Match Director – Adnan Parwez \nThis match will be a Level 2 IPSC Sanctioned match hosted by RAPS and will take place at the RWF Indoor Ranges in Pilot Butte\, Saskatchewan. Be at the range for 8:30 am for a 9:30 am start. Range Officers no later than 8:15AM. This will be a AM/PM format. First shots at 9:30AM. If your squad shoots in the AM\, you will work in the PM and vice versa. \nSquadding: This will be a work/shoot format. Essentially there will be two shifts. If you work the morning you will shoot afternoon and vice versa. \nPlease make sure that your IPSC SK membership is up to date to be able to shoot. \nSetup will take place Friday evening before the match. Please make it out as every little bit helps\, and this match will be dependent on your help. At this time there is no plans for lunch so please bring any provisions you need for the day.  \n***VOLUNTEER POLICY*** While we understand not everyone can make it to setup\, we do expect our competitors to help tear down and put away equipment neatly. If you need to leave early please arrange with the Match Director prior to match day or your score will not be counted. \n***REFUND POLICY*** Cancel with 7 Days or more from the match and receive your match fee back minus a $10.00 fee to cover our fees. Less than 7 days and you will forfeit your match fee.
URL:https://ipscsk.com/event/saskatchewan-ipsc-level-ii-october-19-raps-2/
LOCATION:Regina Wildlife Federation\, RWF Range\, Saskatchewan\, S0G 0H5\, Canada
CATEGORIES:IPSC Monthly
ATTACH;FMTTYPE=image/jpeg:https://ipscsk.com/wp-content/uploads/2023/09/ipsc-slide4.jpg
GEO:50.466548667502;-104.38543639325
X-APPLE-STRUCTURED-LOCATION;VALUE=URI;X-ADDRESS=Regina Wildlife Federation RWF Range Saskatchewan S0G 0H5 Canada;X-APPLE-RADIUS=500;X-TITLE=RWF Range:geo:-104.38543639325,50.466548667502
END:VEVENT
BEGIN:VEVENT
DTSTART;TZID=America/Regina:20241019T090000
DTEND;TZID=America/Regina:20241019T170000
DTSTAMP:20260420T090654
CREATED:20241003T174223Z
LAST-MODIFIED:20241011T164633Z
UID:10000024-1729328400-1729357200@ipscsk.com
SUMMARY:Saskatchewan IPSC Level II October 19 - RAPS
DESCRIPTION:Match Director – Wes John \nWelcome to the IPSC Saskatchewan October 19th match! This match will be a Level 2 IPSC Sanctioned match hosted by RAPS and will take place at the RWF OUTDOOR RANGES in Pilot Butte\, Saskatchewan. Be at the range for 8:30 am for a 9:00 am start. Range Officers no later than 8:15AM. At this time there is no plans for lunch so please bring any provisions you need for the day. \nSquadding: Please feel free to squad where you wish but the MD reserves the right to balance squads to manage ROs and match flow. \nPlease make sure that your IPSC SK membership is up to date to be able to shoot. \nSetup will take place Friday evening before the match. Please make it out as every little bit helps\, and this match will be dependent on your help. \n***VOLUNTEER POLICY*** While we understand not everyone can make it to setup\, we do expect our competitors to help tear down and put away equipment neatly. If you need to leave early please arrange with the Match Director prior to match day or your score will not be counted. \n***REFUND POLICY*** Cancel with 7 Days or more from the match and receive your match fee back minus a $10.00 fee to cover our fees. Less than 7 days and you will forfeit your match fee.
URL:https://ipscsk.com/event/saskatchewan-ipsc-level-ii-october-19-raps/
LOCATION:Regina Wildlife Federation\, RWF Range\, Saskatchewan\, S0G 0H5\, Canada
CATEGORIES:IPSC Monthly
ATTACH;FMTTYPE=image/jpeg:https://ipscsk.com/wp-content/uploads/2023/09/ipsc-slide4.jpg
GEO:50.466548667502;-104.38543639325
X-APPLE-STRUCTURED-LOCATION;VALUE=URI;X-ADDRESS=Regina Wildlife Federation RWF Range Saskatchewan S0G 0H5 Canada;X-APPLE-RADIUS=500;X-TITLE=RWF Range:geo:-104.38543639325,50.466548667502
END:VEVENT
BEGIN:VEVENT
DTSTART;TZID=America/Regina:20240817T090000
DTEND;TZID=America/Regina:20240817T170000
DTSTAMP:20260420T090654
CREATED:20240731T224015Z
LAST-MODIFIED:20240731T224015Z
UID:10000022-1723885200-1723914000@ipscsk.com
SUMMARY:Saskatchewan IPSC Level II August 17  - RAPS
DESCRIPTION:Match Director – Mike Dufour \nWelcome to the IPSC Saskatchewan August 17th match! This match will be a Level 2 IPSC Sanctioned match hosted by RAPS and will take place at the RWF OUTDOOR RANGES in Pilot Butte\, Saskatchewan. Be at the range for 8:30 am for a 9:00 am start. Range Officers no later than 8:15AM. At this time there is no plans for lunch so please bring any provisions you need for the day. \nSquadding: Please feel free to squad where you wish but the MD reserves the right to balance squads to manage ROs and match flow. \nPlease make sure that your IPSC SK membership is up to date to be able to shoot. \nSetup will take place Friday evening before the match. Please make it out as every little bit helps\, and this match will be dependent on your help. \n***VOLUNTEER POLICY*** While we understand not everyone can make it to setup\, we do expect our competitors to help tear down and put away equipment neatly. If you need to leave early please arrange with the Match Director prior to match day or your score will not be counted. \n***REFUND POLICY*** Cancel with 7 Days or more from the match and receive your match fee back minus a $10.00 fee to cover our fees. Less than 7 days and you will forfeit your match fee.
URL:https://ipscsk.com/event/saskatchewan-ipsc-level-ii-august-17-raps/
LOCATION:Regina Wildlife Federation\, RWF Range\, Saskatchewan\, S0G 0H5\, Canada
CATEGORIES:IPSC Monthly
ATTACH;FMTTYPE=image/jpeg:https://ipscsk.com/wp-content/uploads/2024/01/slide4.jpg
GEO:50.466548667502;-104.38543639325
X-APPLE-STRUCTURED-LOCATION;VALUE=URI;X-ADDRESS=Regina Wildlife Federation RWF Range Saskatchewan S0G 0H5 Canada;X-APPLE-RADIUS=500;X-TITLE=RWF Range:geo:-104.38543639325,50.466548667502
END:VEVENT
BEGIN:VEVENT
DTSTART;TZID=America/Regina:20240602T080000
DTEND;TZID=America/Regina:20240602T170000
DTSTAMP:20260420T090654
CREATED:20240429T193917Z
LAST-MODIFIED:20240429T194153Z
UID:10000020-1717315200-1717347600@ipscsk.com
SUMMARY:Saskatchewan IPSC Level II PCC
DESCRIPTION:Location:\nRWF Ranges\, Pilot Butte SK\nRegina\, Saskatchewan S4P 4L4 \nMatch Director: Wes Stevens \nWelcome to the IPSC Saskatchewan PCC match! This Level 2 IPSC Sanctioned match\, hosted by RAPS\, will be held at the RWF Outdoor ranges in Pilot Butte\, Saskatchewan. Setup begins at 8:00 am with a proposed 10:00 am start time. Please note\, there are no plans for lunch\, so please bring any provisions you’ll need for the day. The round count will not exceed 150\, so ensure you bring enough ammunition. \nSquadding: You’re welcome to squad where you wish\, but the Match Director reserves the right to balance squads to manage Range Officers (ROs) and match flow. \nPlease ensure your IPSC SK membership is up to date to participate. \nSetup will take place Sunday morning just before the match. Every bit of help is appreciated\, as this match’s success depends on your assistance. \nVOLUNTEER POLICY: While we understand not everyone can attend setup\, we expect competitors to help tear down and put away equipment neatly. If you need to leave early\, please arrange with the Match Director before match day\, or your score will not be counted. \nREFUND POLICY: Cancel seven days or more before the match to receive a refund of your match fee minus a $10.00 processing fee. Cancellations within seven days will result in forfeiture of your match fee.
URL:https://ipscsk.com/event/saskatchewan-ipsc-level-ii-pcc/
LOCATION:Regina Wildlife Federation\, RWF Range\, Saskatchewan\, S0G 0H5\, Canada
CATEGORIES:IPSC Monthly
ATTACH;FMTTYPE=image/webp:https://ipscsk.com/wp-content/uploads/2023/03/pcc-1.webp
GEO:50.466548667502;-104.38543639325
X-APPLE-STRUCTURED-LOCATION;VALUE=URI;X-ADDRESS=Regina Wildlife Federation RWF Range Saskatchewan S0G 0H5 Canada;X-APPLE-RADIUS=500;X-TITLE=RWF Range:geo:-104.38543639325,50.466548667502
END:VEVENT
BEGIN:VEVENT
DTSTART;TZID=America/Regina:20240420T090000
DTEND;TZID=America/Regina:20240420T170000
DTSTAMP:20260420T090654
CREATED:20240323T224522Z
LAST-MODIFIED:20240429T193230Z
UID:10000019-1713603600-1713632400@ipscsk.com
SUMMARY:Saskatchewan IPSC Level II April 20th - RAPS
DESCRIPTION:Match Director – Alen Audet \nWelcome to the IPSC Saskatchewan April 20th match! This match will be a Level 2 IPSC Sanctioned match hosted by RAPS and will take place at the RWF INDOOR RANGE in Pilot Butte\, Saskatchewan. Be at the range for 8:30 am for a 9:00 am start. Range Officers no later than 8:15AM. At this time there is no plans for lunch so please bring any provisions you need for the day. \nSquadding: Please feel free to squad where you wish but the MD reserves the right to balance squads to manage ROs and match flow.\nPlease make sure that your IPSC SK membership is up to date to be able to shoot. \nSetup will take place Friday evening before the match. Please make it out as every little bit helps. \n***VOLUNTEER POLICY*** While we understand not everyone can make it to setup\, we do expect our competitors to help tear down and put away equipment neatly. If you need to leave early please arrange with the Match Director prior to match day or your score will not be counted. \n***REFUND POLICY*** Cancel with 7 Days or more from the match and receive your match fee back minus a $10.00 fee to cover our fees. Less than 7 days and you will forfeit your match fee.
URL:https://ipscsk.com/event/saskatchewan-ipsc-level-ii-april-20th-raps/
LOCATION:Regina Wildlife Federation\, RWF Range\, Saskatchewan\, S0G 0H5\, Canada
CATEGORIES:IPSC Monthly
ATTACH;FMTTYPE=image/jpeg:https://ipscsk.com/wp-content/uploads/2023/09/ipsc-slide4.jpg
GEO:50.466548667502;-104.38543639325
X-APPLE-STRUCTURED-LOCATION;VALUE=URI;X-ADDRESS=Regina Wildlife Federation RWF Range Saskatchewan S0G 0H5 Canada;X-APPLE-RADIUS=500;X-TITLE=RWF Range:geo:-104.38543639325,50.466548667502
END:VEVENT
BEGIN:VEVENT
DTSTART;TZID=America/Regina:20240217T090000
DTEND;TZID=America/Regina:20240217T170000
DTSTAMP:20260420T090654
CREATED:20240126T040516Z
LAST-MODIFIED:20240126T040516Z
UID:10000014-1708160400-1708189200@ipscsk.com
SUMMARY:Saskatchewan IPSC Level II February 2024 - RAPS
DESCRIPTION:Match Director – Adnan Parwez \nWelcome to the IPSC Saskatchewan February 17th match! This match will be a Level 2 IPSC Sanctioned match hosted by RAPS and will take place at the RWF INDOOR RANGE in Pilot Butte\, Saskatchewan. Be at the range for 8:30 am for a 9:00 am start. Range Officers no later than 8:15AM. At this time there is no plans for lunch so please bring any provisions you need for the day. \nSquadding: Please feel free to squad where you wish but the MD reserves the right to balance squads to manage ROs and match flow.\nPlease make sure that your IPSC SK membership is up to date to be able to shoot. \nSetup will take place Friday evening before the match. Please make it out as every little bit helps. \n***VOLUNTEER POLICY*** While we understand not everyone can make it to setup\, we do expect our competitors to help tear down and put away equipment neatly. If you need to leave early please arrange with the Match Director prior to match day or your score will not be counted. \n***REFUND POLICY*** Cancel with 7 Days or more from the match and receive your match fee back minus a $10.00 fee to cover our fees. Less than 7 days and you will forfeit your match fee.
URL:https://ipscsk.com/event/saskatchewan-ipsc-level-ii-february-2024-raps-2/
LOCATION:Regina Wildlife Federation\, RWF Range\, Saskatchewan\, S0G 0H5\, Canada
ATTACH;FMTTYPE=image/jpeg:https://ipscsk.com/wp-content/uploads/2023/09/ipsc-slide4.jpg
GEO:50.466548667502;-104.38543639325
X-APPLE-STRUCTURED-LOCATION;VALUE=URI;X-ADDRESS=Regina Wildlife Federation RWF Range Saskatchewan S0G 0H5 Canada;X-APPLE-RADIUS=500;X-TITLE=RWF Range:geo:-104.38543639325,50.466548667502
END:VEVENT
BEGIN:VEVENT
DTSTART;TZID=America/Regina:20231216T090000
DTEND;TZID=America/Regina:20231216T170000
DTSTAMP:20260420T090654
CREATED:20231124T171858Z
LAST-MODIFIED:20231124T171858Z
UID:10000009-1702717200-1702746000@ipscsk.com
SUMMARY:Saskatchewan IPSC Level II December 2023 - RAPS
DESCRIPTION:Match Director – Wes Stevens \nWelcome to the Saskatchewan Level II IPSC match for December 2023. This match will be hosted by RAPS and is currently planned to take place at the RWF Indoor ranges located at RWF in Pilot Butte\, Sask. Squadding schedules will be determined on the day depending on number of participants and Match Directors discretion. Be at the range for 8:30 for a 9:00 am start. Round count expected to be 150 but bring extra in the instance of re-shoots. At this time there is no plans for lunch so please bring any provisions you need for the day. \nSetup will take place Friday evening before the match. Please make it out as every little bit helps. \n***VOLUNTEER POLICY*** While we understand not everyone can make it to setup\, we do expect our competitors to help tear down and put away equipment neatly. If you need to leave early please arrange with the Match Director prior to match day or your score will not be counted. \n***REFUND POLICY*** Cancel with 7 Days or more from the match and receive your match fee back minus a $10.00 fee to cover our fees. Less than 7 days and you will forfeit your match fee.
URL:https://ipscsk.com/event/saskatchewan-ipsc-level-ii-december-2023-raps/
LOCATION:Regina Wildlife Federation\, RWF Range\, Saskatchewan\, S0G 0H5\, Canada
ATTACH;FMTTYPE=image/jpeg:https://ipscsk.com/wp-content/uploads/2023/09/ipsc-slide4.jpg
GEO:50.466548667502;-104.38543639325
X-APPLE-STRUCTURED-LOCATION;VALUE=URI;X-ADDRESS=Regina Wildlife Federation RWF Range Saskatchewan S0G 0H5 Canada;X-APPLE-RADIUS=500;X-TITLE=RWF Range:geo:-104.38543639325,50.466548667502
END:VEVENT
BEGIN:VEVENT
DTSTART;TZID=America/Regina:20231021T090000
DTEND;TZID=America/Regina:20231021T170000
DTSTAMP:20260420T090654
CREATED:20230925T015042Z
LAST-MODIFIED:20231018T212637Z
UID:10000005-1697878800-1697907600@ipscsk.com
SUMMARY:IPSC SK Monthly Regina (Oct)
DESCRIPTION:Welcome to the Saskatchewan Level II IPSC match for October 2023. This match will be hosted by RAPS and is currently planned to take place at the RWF Outdoor ranges located at RWF in Pilot Butte\, Sask. Squadding schedules will be determined on the day depending on number of participants and Match Directors discretion. \nBe at the range for 8:30 for a 9:00 am start. Round count expected to be 200 but bring extra in the instance of re-shoots. At this time there is no plans for lunch so please bring any provisions you need for the day. Weather may be a factor so bring sweaters/jackets \nSetup will take place Friday evening before the match. Please make it out as every little bit helps. \n***REFUND POLICY*** Cancel with 7 Days or more from the match and receive your match fee back minus a $10.00 fee to cover our fees. Less than 7 days and you will forfeit your match fee. \n*** PLEASE WATCH THE WEATHER ***\n*** IF THERE IS UNFAVORABLE WEATHER THE MATCH WILL BE RESCHEDULED TO OCT 29TH AND TAKE PLACE IN THE INDOOR RANGE AT RWF ***\n  \nRegistration Here
URL:https://ipscsk.com/event/ipsc-sk-monthly-regina-2/
LOCATION:Regina Wildlife Federation\, RWF Range\, Saskatchewan\, S0G 0H5\, Canada
ATTACH;FMTTYPE=image/jpeg:https://ipscsk.com/wp-content/uploads/2023/09/th-52245251046-800x600-2.jpg
GEO:50.466548667502;-104.38543639325
X-APPLE-STRUCTURED-LOCATION;VALUE=URI;X-ADDRESS=Regina Wildlife Federation RWF Range Saskatchewan S0G 0H5 Canada;X-APPLE-RADIUS=500;X-TITLE=RWF Range:geo:-104.38543639325,50.466548667502
END:VEVENT
BEGIN:VEVENT
DTSTART;TZID=America/Regina:20230121T080000
DTEND;TZID=America/Regina:20230121T170000
DTSTAMP:20260420T090654
CREATED:20230106T003915Z
LAST-MODIFIED:20230112T174526Z
UID:10000001-1674288000-1674320400@ipscsk.com
SUMMARY:IPSC SK Monthly Regina
DESCRIPTION:
URL:https://ipscsk.com/event/ipsc-sk-monthly-regina/
LOCATION:Regina Wildlife Federation\, RWF Range\, Saskatchewan\, S0G 0H5\, Canada
GEO:50.466548667502;-104.38543639325
X-APPLE-STRUCTURED-LOCATION;VALUE=URI;X-ADDRESS=Regina Wildlife Federation RWF Range Saskatchewan S0G 0H5 Canada;X-APPLE-RADIUS=500;X-TITLE=RWF Range:geo:-104.38543639325,50.466548667502
END:VEVENT
END:VCALENDAR